Workbook

Sheet Sheet1
A1: Document Locator Number | B1: Book | C1: Page | D1: Grantee | E1: Grantor | F1: Transfer Date | G1: Purchase Price | H1: Ratio (Total Assessed / Purchase Price) | I1: Acres | J1: Map | K1: Block | L1: Lot | M1: Sublot | N1: Physical Location | O1: Property Type | P1: Property Type Code | Q1: Land Assessed Value | R1: Building Assessed Value | S1: Sale Unusable | T1: Sale Unusable Reason | U1: Sale unusable code | V1: Assessor Comment
A2: 2818907 | B2: 5880 | C2: 304 | D2: KING, LAURA G | E2: MORROTTA, ERIKA | F2: 45839 | G2: 340000 | H2: =IF(G2>0, ROUND((Q2+R2)/G2, 2), "") -> 0.58 | I2: 0.4 | J2: R03 | L2: 002 | N2: 3 BEAN ROAD | O2: 202: Residential - Urban | P2: =IFERROR(VLOOKUP(O2,'Property Type'!$A$2:$B$49,2,FALSE), "") -> 202 | Q2: 30360 | R2: 166779 | S2: FALSE | U2: =IFERROR(VLOOKUP(T2,'Sale Unusable Reasons'!$A$2:$B$11,2,FALSE),"")
A3: 2915549 | B3: 5880 | C3: 938 | D3: MORGENTHAU GENERATIONAL LIVING TRUST | E3: HOLLIS MICKLON | F3: 45840 | G3: 105000 | H3: =IF(G3>0, ROUND((Q3+R3)/G3, 2), "") -> 0.58 | I3: 2 | J3: R01 | L3: 6 | M3: D | N3: 38 KILBY EDWARDS ROAD | O3: 201: Residential - Rural | P3: =IFERROR(VLOOKUP(O3,'Property Type'!$A$2:$B$49,2,FALSE), "") -> 201 | Q3: 38400 | R3: 22144 | S3: FALSE | U3: =IFERROR(VLOOKUP(T3,'Sale Unusable Reasons'!$A$2:$B$11,2,FALSE),"")
A4: 2900362 | B4: 5881 | C4: 435 | D4: KESHON LLC | E4: WILMINGTON SAVINGS FUND SOCIETY | F4: 45841 | G4: 148100 | H4: =IF(G4>0, ROUND((Q4+R4)/G4, 2), "") -> 0 | I4: 1.9 | J4: R4 | L4: 20-B | N4: 456 GORE ROAD | O4: 220: Residential - Other | P4: =IFERROR(VLOOKUP(O4,'Property Type'!$A$2:$B$49,2,FALSE), "") -> 220 | Q4: 1 | R4: 1 | S4: TRUE | T4: Other | U4: =IFERROR(VLOOKUP(T4,'Sale Unusable Reasons'!$A$2:$B$11,2,FALSE),"") -> OTHER | V4: Administrative Sale
A5: 9252190610068 | B5: 5884 | C5: 527 | D5: VITULLO VELLUTATO LLC | E5: MCCOY LIAM PATRICK | F5: 45847 | G5: 0 | H5: =IF(G5>0, ROUND((Q5+R5)/G5, 2), "") | I5: 0.05 | J5: U11 | K5: 00 | L5: 033 | M5: 00 | N5: NA | O5: 101: Vacant Land - Rural | P5: =IFERROR(VLOOKUP(O5,'Property Type'!$A$2:$B$49,2,FALSE), "") -> 101 | Q5: 1 | R5: 1 | S5: TRUE | T5: Other | U5: =IFERROR(VLOOKUP(T5,'Sale Unusable Reasons'!$A$2:$B$11,2,FALSE),"") -> OTHER | V5: $0 Purchase Price
A6: 2984138 | B6: 5881 | C6: 446 | D6: ANNETT, WILLIAM | E6: LANGELIER, JOHN | F6: 45848 | G6: 40000 | H6: =IF(G6>0, ROUND((Q6+R6)/G6, 2), "") -> 0 | I6: 0.8 | J6: R-06 | L6: 17 | N6: 958 GORE ROAD | O6: 206: Residential - Mobile Home | P6: =IFERROR(VLOOKUP(O6,'Property Type'!$A$2:$B$49,2,FALSE), "") -> 206 | Q6: 1 | R6: 1 | S6: TRUE | T6: Other | U6: =IFERROR(VLOOKUP(T6,'Sale Unusable Reasons'!$A$2:$B$11,2,FALSE),"") -> OTHER | V6: Miscellaneous
A7: 2888855 | B7: 5882 | C7: 774 | D7: CRAIG E. TURNER | E7: ESTATE OF ETHEL B. TURNER | F7: 45853 | G7: 0 | H7: =IF(G7>0, ROUND((Q7+R7)/G7, 2), "") | I7: 0.18 | J7: U-04 | L7: 010 | N7: SAND ISLAND ROAD | O7: 101: Vacant Land - Rural | P7: =IFERROR(VLOOKUP(O7,'Property Type'!$A$2:$B$49,2,FALSE), "") -> 101 | Q7: 1 | R7: 1 | S7: TRUE | T7: Other | U7: =IFERROR(VLOOKUP(T7,'Sale Unusable Reasons'!$A$2:$B$11,2,FALSE),"") -> OTHER | V7: $0 Purchase Price
A8: 3042428 | B8: 5882 | C8: 781 | D8: CRAIG E. TURNER | E8: ESTATE OF ETHEL B. TURNER | F8: 45853 | G8: 0 | H8: =IF(G8>0, ROUND((Q8+R8)/G8, 2), "") | I8: 4 | J8: R-06 | L8: 026 | M8: A | N8: LITTLE POND ROAD | O8: 101: Vacant Land - Rural | P8: =IFERROR(VLOOKUP(O8,'Property Type'!$A$2:$B$49,2,FALSE), "") -> 101 | Q8: 1 | R8: 1 | S8: TRUE | T8: Other | U8: =IFERROR(VLOOKUP(T8,'Sale Unusable Reasons'!$A$2:$B$11,2,FALSE),"") -> OTHER | V8: $0 Purchase Price
A9: 3064956 | B9: 5882 | C9: 772 | D9: CRAIG E. TURNER | E9: ESTATE OF ETHEL B. TURNER | F9: 45853 | G9: 0 | H9: =IF(G9>0, ROUND((Q9+R9)/G9, 2), "") | I9: 65.2 | J9: R-03 | L9: 078 | N9: 120 ELLIOT ROAD | O9: 201: Residential - Rural | P9: =IFERROR(VLOOKUP(O9,'Property Type'!$A$2:$B$49,2,FALSE), "") -> 201 | Q9: 1 | R9: 1 | S9: TRUE | T9: Other | U9: =IFERROR(VLOOKUP(T9,'Sale Unusable Reasons'!$A$2:$B$11,2,FALSE),"") -> OTHER | V9: $0 Purchase Price
A10: 3061322 | B10: 5883 | C10: 425 | D10: C. BREWER | E10: PAIGE KENISON SULLIVAN | F10: 45855 | G10: 425000 | H10: =IF(G10>0, ROUND((Q10+R10)/G10, 2), "") -> 0.5 | I10: 5.03 | J10: R09 | L10: 071-G | N10: 55 SHERWOOD DRIVE | O10: 202: Residential - Urban | P10: =IFERROR(VLOOKUP(O10,'Property Type'!$A$2:$B$49,2,FALSE), "") -> 202 | Q10: 47030 | R10: 164686 | S10: FALSE | U10: =IFERROR(VLOOKUP(T10,'Sale Unusable Reasons'!$A$2:$B$11,2,FALSE),"")
A11: 2993670 | B11: 5884 | C11: 241 | D11: LEE FAMILY 2025 TRUST | E11: ROBERT E. LEE | F11: 45859 | G11: 0 | H11: =IF(G11>0, ROUND((Q11+R11)/G11, 2), "") | I11: 34 | J11: R04 | L11: 031 | N11: 30 SOUTH MCALLISTER ROAD | O11: 201: Residential - Rural | P11: =IFERROR(VLOOKUP(O11,'Property Type'!$A$2:$B$49,2,FALSE), "") -> 201 | Q11: 1 | R11: 1 | S11: TRUE | T11: Other | U11: =IFERROR(VLOOKUP(T11,'Sale Unusable Reasons'!$A$2:$B$11,2,FALSE),"") -> OTHER | V11: $0 Purchase Price
A12: 3006316 | B12: 5883 | C12: 996 | D12: ROBERT E. LEE | E12: KATHLEEN H. SCANLON LEE | F12: 45859 | G12: 0 | H12: =IF(G12>0, ROUND((Q12+R12)/G12, 2), "") | I12: 0.18 | J12: U02 | L12: 039 | N12: PO BOX 662 | O12: 204: Residential - Lake/Pond Front | P12: =IFERROR(VLOOKUP(O12,'Property Type'!$A$2:$B$49,2,FALSE), "") -> 204 | Q12: 1 | R12: 1 | S12: TRUE | T12: Other | U12: =IFERROR(VLOOKUP(T12,'Sale Unusable Reasons'!$A$2:$B$11,2,FALSE),"") -> OTHER | V12: $0 Purchase Price
A13: 2965535 | B13: 5886 | C13: 782 | D13: BARBARA MOSES REVOCABLE TRUST, BARBARA MOSES AS TR | E13: BARBARA MOSES | F13: 45861 | G13: 0 | H13: =IF(G13>0, ROUND((Q13+R13)/G13, 2), "") | I13: 15.5 | J13: R02 | L13: 39 | N13: 355 POWHATAN ROAD | O13: 101: Vacant Land - Rural | P13: =IFERROR(VLOOKUP(O13,'Property Type'!$A$2:$B$49,2,FALSE), "") -> 101 | Q13: 1 | R13: 1 | S13: TRUE | T13: Other | U13: =IFERROR(VLOOKUP(T13,'Sale Unusable Reasons'!$A$2:$B$11,2,FALSE),"") -> OTHER | V13: $0 Purchase Price
A14: 2971089 | B14: 5886 | C14: 799 | D14: VICTORIA A. MORLEY, TRUSTEE OF THE | E14: VICTORIA MORLEY | F14: 45866 | G14: 0 | H14: =IF(G14>0, ROUND((Q14+R14)/G14, 2), "") | I14: 0.4 | J14: U18 | L14: 020 | N14: 20 CROOKED RIVER ROAD | O14: 105: Vacant Land - Stream/Riverfront | P14: =IFERROR(VLOOKUP(O14,'Property Type'!$A$2:$B$49,2,FALSE), "") -> 105 | Q14: 1 | R14: 1 | S14: TRUE | T14: Other | U14: =IFERROR(VLOOKUP(T14,'Sale Unusable Reasons'!$A$2:$B$11,2,FALSE),"") -> OTHER | V14: $0 Purchase Price
A15: 3000369 | B15: 5886 | C15: 801 | D15: VICTORIA A. MORLEY, TRUSTEE OF THE | E15: VICTORIA COTTAM N/K/A VICTORIA MORLEY | F15: 45866 | G15: 0 | H15: =IF(G15>0, ROUND((Q15+R15)/G15, 2), "") | I15: 0.17 | J15: U18 | L15: 007 | N15: 82 CROOKED RIVER ROAD | O15: 101: Vacant Land - Rural | P15: =IFERROR(VLOOKUP(O15,'Property Type'!$A$2:$B$49,2,FALSE), "") -> 101 | Q15: 1 | R15: 1 | S15: TRUE | T15: Other | U15: =IFERROR(VLOOKUP(T15,'Sale Unusable Reasons'!$A$2:$B$11,2,FALSE),"") -> OTHER | V15: $0 Purchase Price
A16: 2983421 | B16: 5885 | C16: 157 | D16: SHELDON T. KATZ REVOCABLE TRUST | E16: KATZ, SHELDON T. | F16: 45867 | G16: 0 | H16: =IF(G16>0, ROUND((Q16+R16)/G16, 2), "") | I16: 2.1 | J16: U06 | L16: 48 | N16: 98 JILLSON CAMP ROAD | O16: 204: Residential - Lake/Pond Front | P16: =IFERROR(VLOOKUP(O16,'Property Type'!$A$2:$B$49,2,FALSE), "") -> 204 | Q16: 1 | R16: 1 | S16: TRUE | T16: Other | U16: =IFERROR(VLOOKUP(T16,'Sale Unusable Reasons'!$A$2:$B$11,2,FALSE),"") -> OTHER | V16: $0 Purchase Price
A17: 2998127 | B17: 5885 | C17: 155 | D17: KATZ, SHELDON T. | E17: AUDREY W. KATZ REVOCABLE TRUST | F17: 45867 | G17: 0 | H17: =IF(G17>0, ROUND((Q17+R17)/G17, 2), "") | I17: 2.1 | J17: U06 | L17: 4B | N17: 98 JILLSON CAMP ROAD | O17: 204: Residential - Lake/Pond Front | P17: =IFERROR(VLOOKUP(O17,'Property Type'!$A$2:$B$49,2,FALSE), "") -> 204 | Q17: 1 | R17: 1 | S17: TRUE | T17: Other | U17: =IFERROR(VLOOKUP(T17,'Sale Unusable Reasons'!$A$2:$B$11,2,FALSE),"") -> OTHER | V17: $0 Purchase Price
A18: 3000551 | B18: 5886 | C18: 312 | D18: NETISHEN LAND HOLDINGS, LLC | E18: ALLEN PITTSLEY | F18: 45869 | G18: 1000 | H18: =IF(G18>0, ROUND((Q18+R18)/G18, 2), "") -> 0 | I18: 19 | J18: R04 | L18: 05-TG | N18: MAP R04 LOT 035-TG | O18: 101: Vacant Land - Rural | P18: =IFERROR(VLOOKUP(O18,'Property Type'!$A$2:$B$49,2,FALSE), "") -> 101 | Q18: 1 | R18: 1 | S18: TRUE | T18: Other | U18: =IFERROR(VLOOKUP(T18,'Sale Unusable Reasons'!$A$2:$B$11,2,FALSE),"") -> OTHER | V18: N/A
A19: 3143592 | B19: 5891 | C19: 68 | D19: SEAN AND MARGARET WATSON REV LIVING TRUST 8-5-25 | E19: MARGARET A. WATSON | F19: 45874 | G19: 0 | H19: =IF(G19>0, ROUND((Q19+R19)/G19, 2), "") | I19: 0 | J19: U17 | L19: 005 | N19: 77 HENIGER PARK ROAD | O19: 201: Residential - Rural | P19: =IFERROR(VLOOKUP(O19,'Property Type'!$A$2:$B$49,2,FALSE), "") -> 201 | Q19: 1 | R19: 1 | S19: TRUE | T19: Other | U19: =IFERROR(VLOOKUP(T19,'Sale Unusable Reasons'!$A$2:$B$11,2,FALSE),"") -> OTHER | V19: $0 Purchase Price
A20: 9261560690072 | B20: 5939 | C20: 626 | D20: WOOD KYLE | E20: WOOD PRISCILLA A | F20: 45876 | G20: 1 | H20: =IF(G20>0, ROUND((Q20+R20)/G20, 2), "") -> 2 | I20: 0 | J20: R02 | L20: 004 | M20: B | N20: 326 SCRIBNER HLLL RD | O20: 201: Residential - Rural | P20: =IFERROR(VLOOKUP(O20,'Property Type'!$A$2:$B$49,2,FALSE), "") -> 201 | Q20: 1 | R20: 1 | S20: TRUE | T20: Family Transaction | U20: =IFERROR(VLOOKUP(T20,'Sale Unusable Reasons'!$A$2:$B$11,2,FALSE),"") -> FAMILY | V20: Interfamily Sale
A21: 3079395 | B21: 5887 | C21: 704 | D21: DALE R. VERRILL | E21: SCOTT PELLETIER | F21: 45877 | G21: 110000 | H21: =IF(G21>0, ROUND((Q21+R21)/G21, 2), "") -> 0.22 | I21: 20 | J21: R-04 | L21: 30 | N21: CORNER N/S MCALLISTER ROAD | O21: 101: Vacant Land - Rural | P21: =IFERROR(VLOOKUP(O21,'Property Type'!$A$2:$B$49,2,FALSE), "") -> 101 | Q21: 24640 | R21: 0 | S21: FALSE | U21: =IFERROR(VLOOKUP(T21,'Sale Unusable Reasons'!$A$2:$B$11,2,FALSE),"")
A22: 2971799 | B22: 5888 | C22: 252 | D22: CASTAGNETTA, KATHLEEN H. | E22: COTE, AUDAI C. | F22: 45881 | G22: 700000 | H22: =IF(G22>0, ROUND((Q22+R22)/G22, 2), "") -> 0.43 | I22: 13.66 | J22: R03 | L22: 062 | N22: 127 BEAN ROAD | O22: 201: Residential - Rural | P22: =IFERROR(VLOOKUP(O22,'Property Type'!$A$2:$B$49,2,FALSE), "") -> 201 | Q22: 47079 | R22: 254239 | S22: FALSE | U22: =IFERROR(VLOOKUP(T22,'Sale Unusable Reasons'!$A$2:$B$11,2,FALSE),"")
A23: 3126894 | B23: 5888 | C23: 773 | D23: BRINE, BARRY S | E23: POTTLE, JOHN HIRAM | F23: 45882 | G23: 137500 | H23: =IF(G23>0, ROUND((Q23+R23)/G23, 2), "") -> 0 | I23: 61 | J23: R11 | L23: 31-TG | N23: MAP R11 L31 MAINS RD | O23: 101: Vacant Land - Rural | P23: =IFERROR(VLOOKUP(O23,'Property Type'!$A$2:$B$49,2,FALSE), "") -> 101 | Q23: 1 | R23: 1 | S23: TRUE | T23: Other | U23: =IFERROR(VLOOKUP(T23,'Sale Unusable Reasons'!$A$2:$B$11,2,FALSE),"") -> OTHER | V23: Land in Tree Growth
A24: 2990591 | B24: 5888 | C24: 709 | D24: JOHN R. GUSTAITIS, JR. | E24: WILLIAM G. TROY, JR. | F24: 45883 | G24: 60000 | H24: =IF(G24>0, ROUND((Q24+R24)/G24, 2), "") -> 0.38 | I24: 4.94 | J24: R04 | L24: 19E | N24: 19-E1 NORTH MCALLISTER ROAD | O24: 101: Vacant Land - Rural | P24: =IFERROR(VLOOKUP(O24,'Property Type'!$A$2:$B$49,2,FALSE), "") -> 101 | Q24: 22940 | R24: 0 | S24: FALSE | U24: =IFERROR(VLOOKUP(T24,'Sale Unusable Reasons'!$A$2:$B$11,2,FALSE),"")
A25: 3043773 | B25: 5889 | C25: 335 | D25: WENDY J. RENELL | E25: STEVEN JORDAN | F25: 45887 | G25: 290000 | H25: =IF(G25>0, ROUND((Q25+R25)/G25, 2), "") -> 0.39 | I25: 2.32 | J25: R02 | L25: 49-5 | N25: 23 CASEY LANE | O25: 201: Residential - Rural | P25: =IFERROR(VLOOKUP(O25,'Property Type'!$A$2:$B$49,2,FALSE), "") -> 201 | Q25: 44320 | R25: 68089 | S25: FALSE | U25: =IFERROR(VLOOKUP(T25,'Sale Unusable Reasons'!$A$2:$B$11,2,FALSE),"")
A26: 3128490 | B26: 5889 | C26: 417 | D26: CATHERINE L. HEAL | E26: JEFFREY H. EMMERT | F26: 45887 | G26: 590000 | H26: =IF(G26>0, ROUND((Q26+R26)/G26, 2), "") -> 0.52 | I26: 4.9 | J26: R02 | L26: 19A | N26: 14 IVORY HILL ROAD | O26: 201: Residential - Rural | P26: =IFERROR(VLOOKUP(O26,'Property Type'!$A$2:$B$49,2,FALSE), "") -> 201 | Q26: 58280 | R26: 248777 | S26: FALSE | U26: =IFERROR(VLOOKUP(T26,'Sale Unusable Reasons'!$A$2:$B$11,2,FALSE),"")
A27: 8252520170003 | B27: 5890 | C27: 6 | D27: SASSER W EARL | E27: SASSER CONSTANCE J | F27: 45887 | G27: 0 | H27: =IF(G27>0, ROUND((Q27+R27)/G27, 2), "") | I27: 0 | J27: U12 | K27: 0 | L27: 1C | M27: 1B | N27: OTISFIELD | O27: 204: Residential - Lake/Pond Front | P27: =IFERROR(VLOOKUP(O27,'Property Type'!$A$2:$B$49,2,FALSE), "") -> 204 | Q27: 1 | R27: 1 | S27: TRUE | T27: Other | U27: =IFERROR(VLOOKUP(T27,'Sale Unusable Reasons'!$A$2:$B$11,2,FALSE),"") -> OTHER | V27: $0 Purchase Price
A28: 3083355 | B28: 5893 | C28: 284 | D28: JAZMYNN BROWN | E28: DAVID MCKAY | F28: 45898 | G28: 350000 | H28: =IF(G28>0, ROUND((Q28+R28)/G28, 2), "") -> 0.29 | I28: 6 | J28: R06 | L28: 006 | N28: 25 E ANDREWS HILL RD | O28: 201: Residential - Rural | P28: =IFERROR(VLOOKUP(O28,'Property Type'!$A$2:$B$49,2,FALSE), "") -> 201 | Q28: 40000 | R28: 62743 | S28: FALSE | U28: =IFERROR(VLOOKUP(T28,'Sale Unusable Reasons'!$A$2:$B$11,2,FALSE),"")
A29: 3103152 | B29: 5892 | C29: 397 | D29: NEAL, JAMES C. | E29: MCKAY, MARK E.W. | F29: 45902 | G29: 290000 | H29: =IF(G29>0, ROUND((Q29+R29)/G29, 2), "") -> 0.43 | I29: 180 | J29: R5 | L29: 22 | N29: GORE RD | O29: 101: Vacant Land - Rural | P29: =IFERROR(VLOOKUP(O29,'Property Type'!$A$2:$B$49,2,FALSE), "") -> 101 | Q29: 124250 | R29: 0 | S29: FALSE | U29: =IFERROR(VLOOKUP(T29,'Sale Unusable Reasons'!$A$2:$B$11,2,FALSE),"")
A30: 3122465 | B30: 5894 | C30: 643 | D30: DAVID M. ZANNI | E30: MILTON MASON, LLC | F30: 45905 | G30: 0 | H30: =IF(G30>0, ROUND((Q30+R30)/G30, 2), "") | I30: 0 | J30: R7 | L30: 18F | M30: 2 | N30: 26 EVERGREEN DR | O30: 201: Residential - Rural | P30: =IFERROR(VLOOKUP(O30,'Property Type'!$A$2:$B$49,2,FALSE), "") -> 201 | Q30: 1 | R30: 1 | S30: TRUE | T30: Other | U30: =IFERROR(VLOOKUP(T30,'Sale Unusable Reasons'!$A$2:$B$11,2,FALSE),"") -> OTHER | V30: $0 Purchase Price
A31: 3166130 | B31: 5893 | C31: 665 | D31: ROY H. DAVIS AS TRUSTEE OF THE DAVIS LIVING TRUST | E31: ROY H. DAVIS | F31: 45908 | G31: 0 | H31: =IF(G31>0, ROUND((Q31+R31)/G31, 2), "") | I31: 1 | J31: U07 | L31: 23 | N31: 70 OHUIVO ROAD | O31: 204: Residential - Lake/Pond Front | P31: =IFERROR(VLOOKUP(O31,'Property Type'!$A$2:$B$49,2,FALSE), "") -> 204 | Q31: 1 | R31: 1 | S31: TRUE | T31: Other | U31: =IFERROR(VLOOKUP(T31,'Sale Unusable Reasons'!$A$2:$B$11,2,FALSE),"") -> OTHER | V31: $0 Purchase Price
A32: 3196010 | B32: 5894 | C32: 771 | D32: MENEZES, LEAH LIBBY | E32: LIBBY, TIMOTHY S. | F32: 45910 | G32: 0 | H32: =IF(G32>0, ROUND((Q32+R32)/G32, 2), "") | I32: 25 | J32: R07 | L32: 17 | M32: A | N32: AHONEN ROAD BACK LOT | O32: 101: Vacant Land - Rural | P32: =IFERROR(VLOOKUP(O32,'Property Type'!$A$2:$B$49,2,FALSE), "") -> 101 | Q32: 1 | R32: 1 | S32: TRUE | T32: Other | U32: =IFERROR(VLOOKUP(T32,'Sale Unusable Reasons'!$A$2:$B$11,2,FALSE),"") -> OTHER | V32: $0 Purchase Price
A33: 3210101 | B33: 5894 | C33: 738 | D33: DALE SABINE | E33: JOHN L. BOOKER | F33: 45911 | G33: 35000 | H33: =IF(G33>0, ROUND((Q33+R33)/G33, 2), "") -> 0 | I33: 5.14 | J33: R04 | L33: 020-G | N33: 92 HIDDEN LAKE DRIVE | O33: 201: Residential - Rural | P33: =IFERROR(VLOOKUP(O33,'Property Type'!$A$2:$B$49,2,FALSE), "") -> 201 | Q33: 1 | R33: 1 | S33: TRUE | T33: Other | U33: =IFERROR(VLOOKUP(T33,'Sale Unusable Reasons'!$A$2:$B$11,2,FALSE),"") -> OTHER | V33: Time
A34: 3260100 | B34: 5894 | C34: 808 | D34: JUSTIN BROWN | E34: CHAD ALLEN TOOTHAKER | F34: 45912 | G34: 15000 | H34: =IF(G34>0, ROUND((Q34+R34)/G34, 2), "") -> 0.23 | I34: 28 | J34: R08 | L34: 048 | N34: MAP R08 LOT 48 | O34: 101: Vacant Land - Rural | P34: =IFERROR(VLOOKUP(O34,'Property Type'!$A$2:$B$49,2,FALSE), "") -> 101 | Q34: 3500 | R34: 0 | S34: FALSE | U34: =IFERROR(VLOOKUP(T34,'Sale Unusable Reasons'!$A$2:$B$11,2,FALSE),"")
A35: 3235982 | B35: 5895 | C35: 265 | D35: DE VITO, JORDAN | E35: LIBBY, THEREASA | F35: 45915 | G35: 377000 | H35: =IF(G35>0, ROUND((Q35+R35)/G35, 2), "") -> 0.59 | I35: 4.19 | J35: U12 | L35: 008A | N35: 493 POWHATAN ROAD | O35: 201: Residential - Rural | P35: =IFERROR(VLOOKUP(O35,'Property Type'!$A$2:$B$49,2,FALSE), "") -> 201 | Q35: 65128 | R35: 157709 | S35: FALSE | U35: =IFERROR(VLOOKUP(T35,'Sale Unusable Reasons'!$A$2:$B$11,2,FALSE),"")
A36: 3146796 | B36: 5895 | C36: 146 | D36: CARLA O'SULLIVAN | E36: JANE LESLIE ALLEN | F36: 45916 | G36: 75000 | H36: =IF(G36>0, ROUND((Q36+R36)/G36, 2), "") -> 0 | I36: 2 | J36: R02 | L36: 23-A | N36: 422 SCRIBNER HILL ROAD | O36: 201: Residential - Rural | P36: =IFERROR(VLOOKUP(O36,'Property Type'!$A$2:$B$49,2,FALSE), "") -> 201 | Q36: 1 | R36: 1 | S36: TRUE | T36: Other | U36: =IFERROR(VLOOKUP(T36,'Sale Unusable Reasons'!$A$2:$B$11,2,FALSE),"") -> OTHER | V36: Miscellaneous
A37: 3169249 | B37: 5896 | C37: 108 | D37: CZACHOR, JESSICA LYN | E37: CAMARA, AMY | F37: 45918 | G37: 530000 | H37: =IF(G37>0, ROUND((Q37+R37)/G37, 2), "") -> 0 | I37: 0.34 | J37: U02 | L37: 010 AND 011 | N37: 60 CANADA HILL SHORE | O37: 201: Residential - Rural | P37: =IFERROR(VLOOKUP(O37,'Property Type'!$A$2:$B$49,2,FALSE), "") -> 201 | Q37: 1 | R37: 1 | S37: TRUE | T37: Other | U37: =IFERROR(VLOOKUP(T37,'Sale Unusable Reasons'!$A$2:$B$11,2,FALSE),"") -> OTHER | V37: Multiple Lots
A38: 3171512 | B38: 5895 | C38: 899 | D38: 33 WHITTUM LANE LLC | E38: LYNN M. O'BRIEN REVOCABLE TRUST | F38: 45918 | G38: 994000 | H38: =IF(G38>0, ROUND((Q38+R38)/G38, 2), "") -> 0.33 | I38: 0.74 | J38: U06 | L38: 007 | N38: 33 WHITTUM LANE | O38: 201: Residential - Rural | P38: =IFERROR(VLOOKUP(O38,'Property Type'!$A$2:$B$49,2,FALSE), "") -> 201 | Q38: 214456 | R38: 114297 | S38: FALSE | U38: =IFERROR(VLOOKUP(T38,'Sale Unusable Reasons'!$A$2:$B$11,2,FALSE),"")
A39: 3186701 | B39: 5895 | C39: 658 | D39: RONALDA L. LOWELL | E39: EDWARD ARCHER | F39: 45918 | G39: 375000 | H39: =IF(G39>0, ROUND((Q39+R39)/G39, 2), "") -> 0.54 | I39: 0.9 | J39: 3 | L39: 79 | N39: 173 STATE ROUTE 121 | O39: 201: Residential - Rural | P39: =IFERROR(VLOOKUP(O39,'Property Type'!$A$2:$B$49,2,FALSE), "") -> 201 | Q39: 40080 | R39: 163285 | S39: FALSE | U39: =IFERROR(VLOOKUP(T39,'Sale Unusable Reasons'!$A$2:$B$11,2,FALSE),"")
A40: 3195500 | B40: 5896 | C40: 77 | D40: 16 WHITTUM LANE, LLC | E40: LYNN M. O'BRIEN | F40: 45918 | G40: 406000 | H40: =IF(G40>0, ROUND((Q40+R40)/G40, 2), "") -> 0.52 | I40: 2.5 | J40: U06 | L40: 006 | N40: 16 WHITTUM LANE | O40: 101: Vacant Land - Rural | P40: =IFERROR(VLOOKUP(O40,'Property Type'!$A$2:$B$49,2,FALSE), "") -> 101 | Q40: 207740 | R40: 2400 | S40: FALSE | U40: =IFERROR(VLOOKUP(T40,'Sale Unusable Reasons'!$A$2:$B$11,2,FALSE),"")
...

Sheet Property Type
A1: Property Type and Code | B1: Code | C1: Property Type
A2: Select property type | C2: Select property type
A3: =Table1[[#This Row],[Code]]&": "&C3 -> 101: Vacant Land - Rural | B3: 101 | C3: Vacant Land - Rural
A4: =Table1[[#This Row],[Code]]&": "&C4 -> 102: Vacant Land - Urban | B4: 102 | C4: Vacant Land - Urban
A5: =Table1[[#This Row],[Code]]&": "&C5 -> 103: Vacant Land - Oceanfront | B5: 103 | C5: Vacant Land - Oceanfront
A6: =Table1[[#This Row],[Code]]&": "&C6 -> 104: Vacant Land - Lake/Pond Front | B6: 104 | C6: Vacant Land - Lake/Pond Front
A7: =Table1[[#This Row],[Code]]&": "&C7 -> 105: Vacant Land - Stream/Riverfront | B7: 105 | C7: Vacant Land - Stream/Riverfront
A8: =Table1[[#This Row],[Code]]&": "&C8 -> 106: Vacant Land - Agricultural | B8: 106 | C8: Vacant Land - Agricultural
A9: =Table1[[#This Row],[Code]]&": "&C9 -> 107: Vacant Land - Commercial Zone | B9: 107 | C9: Vacant Land - Commercial Zone
A10: =Table1[[#This Row],[Code]]&": "&C10 -> 120: Vacant Land - Other | B10: 120 | C10: Vacant Land - Other
A11: =Table1[[#This Row],[Code]]&": "&C11 -> 201: Residential - Rural | B11: 201 | C11: Residential - Rural
A12: =Table1[[#This Row],[Code]]&": "&C12 -> 202: Residential - Urban | B12: 202 | C12: Residential - Urban
A13: =Table1[[#This Row],[Code]]&": "&C13 -> 203: Residential - Oceanfront | B13: 203 | C13: Residential - Oceanfront
A14: =Table1[[#This Row],[Code]]&": "&C14 -> 204: Residential - Lake/Pond Front | B14: 204 | C14: Residential - Lake/Pond Front
... A49: =Table1[[#This Row],[Code]]&": "&C49 -> 520: Misc Codes - Other | B49: 520 | C49: Misc Codes - Other

Sheet Sale Unusable Reasons
A1: Unusable Reason | B1: Unusable Code | C1: Sale Unusable
A2: Family Transaction | B2: FAMILY | C2: TRUE
A3: Private Sale | B3: PRIVATE | C3: FALSE
A4: Bank Sale/Foreclosure | B4: BANK
A5: Estate | B5: ESTATE
A6: Divorce | B6: DIVORCE
A7: Multi-Town Sale | B7: MULTI-TOWN
A8: Bond for a deed | B8: BOND
A9: Split | B9: SPLIT
A10: Abutter | B10: ABUTTER
A11: Other | B11: OTHER
